BEGIN:VCALENDAR
VERSION:2.0
PRODID:-//Town of Maidstone Vermont - ECPv6.15.20//NONSGML v1.0//EN
CALSCALE:GREGORIAN
METHOD:PUBLISH
X-ORIGINAL-URL:https://maidstone-vt.org
X-WR-CALDESC:Events for Town of Maidstone Vermont
REFRESH-INTERVAL;VALUE=DURATION:PT1H
X-Robots-Tag:noindex
X-PUBLISHED-TTL:PT1H
BEGIN:VTIMEZONE
TZID:America/New_York
BEGIN:DAYLIGHT
TZOFFSETFROM:-0500
TZOFFSETTO:-0400
TZNAME:EDT
DTSTART:20230312T070000
END:DAYLIGHT
BEGIN:STANDARD
TZOFFSETFROM:-0400
TZOFFSETTO:-0500
TZNAME:EST
DTSTART:20231105T060000
END:STANDARD
BEGIN:DAYLIGHT
TZOFFSETFROM:-0500
TZOFFSETTO:-0400
TZNAME:EDT
DTSTART:20240310T070000
END:DAYLIGHT
BEGIN:STANDARD
TZOFFSETFROM:-0400
TZOFFSETTO:-0500
TZNAME:EST
DTSTART:20241103T060000
END:STANDARD
BEGIN:DAYLIGHT
TZOFFSETFROM:-0500
TZOFFSETTO:-0400
TZNAME:EDT
DTSTART:20250309T070000
END:DAYLIGHT
BEGIN:STANDARD
TZOFFSETFROM:-0400
TZOFFSETTO:-0500
TZNAME:EST
DTSTART:20251102T060000
END:STANDARD
END:VTIMEZONE
BEGIN:VEVENT
DTSTART;VALUE=DATE:20240205
DTEND;VALUE=DATE:20240206
DTSTAMP:20260425T082252
CREATED:20230823T161804Z
LAST-MODIFIED:20240504T172727Z
UID:10000323-1707091200-1707177599@maidstone-vt.org
SUMMARY:Trash Pickup
DESCRIPTION:
URL:https://maidstone-vt.org/event/trash-pickup/2024-02-05/
CATEGORIES:Waste & Recycle
END:VEVENT
BEGIN:VEVENT
DTSTART;VALUE=DATE:20240212
DTEND;VALUE=DATE:20240213
DTSTAMP:20260425T082252
CREATED:20230823T161804Z
LAST-MODIFIED:20240504T172727Z
UID:10000324-1707696000-1707782399@maidstone-vt.org
SUMMARY:Trash Pickup
DESCRIPTION:
URL:https://maidstone-vt.org/event/trash-pickup/2024-02-12/
CATEGORIES:Waste & Recycle
END:VEVENT
BEGIN:VEVENT
DTSTART;VALUE=DATE:20240219
DTEND;VALUE=DATE:20240220
DTSTAMP:20260425T082252
CREATED:20230823T161804Z
LAST-MODIFIED:20240504T172727Z
UID:10000325-1708300800-1708387199@maidstone-vt.org
SUMMARY:Trash Pickup
DESCRIPTION:
URL:https://maidstone-vt.org/event/trash-pickup/2024-02-19/
CATEGORIES:Waste & Recycle
END:VEVENT
BEGIN:VEVENT
DTSTART;VALUE=DATE:20240226
DTEND;VALUE=DATE:20240227
DTSTAMP:20260425T082252
CREATED:20230823T161804Z
LAST-MODIFIED:20240504T172727Z
UID:10000326-1708905600-1708991999@maidstone-vt.org
SUMMARY:Trash Pickup
DESCRIPTION:
URL:https://maidstone-vt.org/event/trash-pickup/2024-02-26/
CATEGORIES:Waste & Recycle
END:VEVENT
BEGIN:VEVENT
DTSTART;VALUE=DATE:20240304
DTEND;VALUE=DATE:20240305
DTSTAMP:20260425T082252
CREATED:20230823T161804Z
LAST-MODIFIED:20240504T172727Z
UID:10000327-1709510400-1709596799@maidstone-vt.org
SUMMARY:Trash Pickup
DESCRIPTION:
URL:https://maidstone-vt.org/event/trash-pickup/2024-03-04/
CATEGORIES:Waste & Recycle
END:VEVENT
BEGIN:VEVENT
DTSTART;VALUE=DATE:20240311
DTEND;VALUE=DATE:20240312
DTSTAMP:20260425T082252
CREATED:20230823T161804Z
LAST-MODIFIED:20240504T172727Z
UID:10000328-1710115200-1710201599@maidstone-vt.org
SUMMARY:Trash Pickup
DESCRIPTION:
URL:https://maidstone-vt.org/event/trash-pickup/2024-03-11/
CATEGORIES:Waste & Recycle
END:VEVENT
BEGIN:VEVENT
DTSTART;VALUE=DATE:20240318
DTEND;VALUE=DATE:20240319
DTSTAMP:20260425T082252
CREATED:20230823T161804Z
LAST-MODIFIED:20240504T172727Z
UID:10000329-1710720000-1710806399@maidstone-vt.org
SUMMARY:Trash Pickup
DESCRIPTION:
URL:https://maidstone-vt.org/event/trash-pickup/2024-03-18/
CATEGORIES:Waste & Recycle
END:VEVENT
BEGIN:VEVENT
DTSTART;VALUE=DATE:20240325
DTEND;VALUE=DATE:20240326
DTSTAMP:20260425T082252
CREATED:20230823T161804Z
LAST-MODIFIED:20240504T172727Z
UID:10000330-1711324800-1711411199@maidstone-vt.org
SUMMARY:Trash Pickup
DESCRIPTION:
URL:https://maidstone-vt.org/event/trash-pickup/2024-03-25/
CATEGORIES:Waste & Recycle
END:VEVENT
BEGIN:VEVENT
DTSTART;VALUE=DATE:20240401
DTEND;VALUE=DATE:20240402
DTSTAMP:20260425T082252
CREATED:20230823T161804Z
LAST-MODIFIED:20240504T172727Z
UID:10000331-1711929600-1712015999@maidstone-vt.org
SUMMARY:Trash Pickup
DESCRIPTION:
URL:https://maidstone-vt.org/event/trash-pickup/2024-04-01/
CATEGORIES:Waste & Recycle
END:VEVENT
BEGIN:VEVENT
DTSTART;VALUE=DATE:20240408
DTEND;VALUE=DATE:20240409
DTSTAMP:20260425T082252
CREATED:20230823T161804Z
LAST-MODIFIED:20240504T172727Z
UID:10000332-1712534400-1712620799@maidstone-vt.org
SUMMARY:Trash Pickup
DESCRIPTION:
URL:https://maidstone-vt.org/event/trash-pickup/2024-04-08/
CATEGORIES:Waste & Recycle
END:VEVENT
BEGIN:VEVENT
DTSTART;VALUE=DATE:20240415
DTEND;VALUE=DATE:20240416
DTSTAMP:20260425T082252
CREATED:20230823T161804Z
LAST-MODIFIED:20240504T172727Z
UID:10000333-1713139200-1713225599@maidstone-vt.org
SUMMARY:Trash Pickup
DESCRIPTION:
URL:https://maidstone-vt.org/event/trash-pickup/2024-04-15/
CATEGORIES:Waste & Recycle
END:VEVENT
BEGIN:VEVENT
DTSTART;VALUE=DATE:20240422
DTEND;VALUE=DATE:20240423
DTSTAMP:20260425T082252
CREATED:20230823T161804Z
LAST-MODIFIED:20240504T172727Z
UID:10000334-1713744000-1713830399@maidstone-vt.org
SUMMARY:Trash Pickup
DESCRIPTION:
URL:https://maidstone-vt.org/event/trash-pickup/2024-04-22/
CATEGORIES:Waste & Recycle
END:VEVENT
BEGIN:VEVENT
DTSTART;VALUE=DATE:20240429
DTEND;VALUE=DATE:20240430
DTSTAMP:20260425T082252
CREATED:20230823T161804Z
LAST-MODIFIED:20240504T172727Z
UID:10000335-1714348800-1714435199@maidstone-vt.org
SUMMARY:Trash Pickup
DESCRIPTION:
URL:https://maidstone-vt.org/event/trash-pickup/2024-04-29/
CATEGORIES:Waste & Recycle
END:VEVENT
BEGIN:VEVENT
DTSTART;VALUE=DATE:20240506
DTEND;VALUE=DATE:20240507
DTSTAMP:20260425T082252
CREATED:20230823T161804Z
LAST-MODIFIED:20240504T172727Z
UID:10000336-1714953600-1715039999@maidstone-vt.org
SUMMARY:Trash Pickup
DESCRIPTION:
URL:https://maidstone-vt.org/event/trash-pickup/2024-05-06/
CATEGORIES:Waste & Recycle
END:VEVENT
BEGIN:VEVENT
DTSTART;VALUE=DATE:20240506
DTEND;VALUE=DATE:20240507
DTSTAMP:20260425T082252
CREATED:20240504T145653Z
LAST-MODIFIED:20240528T114615Z
UID:10000894-1714953600-1715039999@maidstone-vt.org
SUMMARY:Recycling
DESCRIPTION:
URL:https://maidstone-vt.org/event/recycling-2/2024-05-06/
LOCATION:Town Hall
CATEGORIES:Waste & Recycle
END:VEVENT
BEGIN:VEVENT
DTSTART;VALUE=DATE:20240513
DTEND;VALUE=DATE:20240514
DTSTAMP:20260425T082252
CREATED:20230823T161804Z
LAST-MODIFIED:20240504T172727Z
UID:10000337-1715558400-1715644799@maidstone-vt.org
SUMMARY:Trash Pickup
DESCRIPTION:
URL:https://maidstone-vt.org/event/trash-pickup/2024-05-13/
CATEGORIES:Waste & Recycle
END:VEVENT
BEGIN:VEVENT
DTSTART;VALUE=DATE:20240520
DTEND;VALUE=DATE:20240521
DTSTAMP:20260425T082252
CREATED:20230823T161804Z
LAST-MODIFIED:20240504T172727Z
UID:10000338-1716163200-1716249599@maidstone-vt.org
SUMMARY:Trash Pickup
DESCRIPTION:
URL:https://maidstone-vt.org/event/trash-pickup/2024-05-20/
CATEGORIES:Waste & Recycle
END:VEVENT
BEGIN:VEVENT
DTSTART;VALUE=DATE:20240520
DTEND;VALUE=DATE:20240521
DTSTAMP:20260425T082252
CREATED:20240504T145653Z
LAST-MODIFIED:20240528T114615Z
UID:10000895-1716163200-1716249599@maidstone-vt.org
SUMMARY:Recycling
DESCRIPTION:
URL:https://maidstone-vt.org/event/recycling-2/2024-05-20/
LOCATION:Town Hall
CATEGORIES:Waste & Recycle
END:VEVENT
BEGIN:VEVENT
DTSTART;VALUE=DATE:20240527
DTEND;VALUE=DATE:20240528
DTSTAMP:20260425T082252
CREATED:20230823T161804Z
LAST-MODIFIED:20240504T172727Z
UID:10000339-1716768000-1716854399@maidstone-vt.org
SUMMARY:Trash Pickup
DESCRIPTION:
URL:https://maidstone-vt.org/event/trash-pickup/2024-05-27/
CATEGORIES:Waste & Recycle
END:VEVENT
BEGIN:VEVENT
DTSTART;VALUE=DATE:20240603
DTEND;VALUE=DATE:20240604
DTSTAMP:20260425T082252
CREATED:20230823T161804Z
LAST-MODIFIED:20240504T172727Z
UID:10000340-1717372800-1717459199@maidstone-vt.org
SUMMARY:Trash Pickup
DESCRIPTION:
URL:https://maidstone-vt.org/event/trash-pickup/2024-06-03/
CATEGORIES:Waste & Recycle
END:VEVENT
BEGIN:VEVENT
DTSTART;VALUE=DATE:20240603
DTEND;VALUE=DATE:20240604
DTSTAMP:20260425T082252
CREATED:20240504T145653Z
LAST-MODIFIED:20240528T114615Z
UID:10000896-1717372800-1717459199@maidstone-vt.org
SUMMARY:Recycling
DESCRIPTION:
URL:https://maidstone-vt.org/event/recycling-2/2024-06-03/
LOCATION:Town Hall
CATEGORIES:Waste & Recycle
END:VEVENT
BEGIN:VEVENT
DTSTART;VALUE=DATE:20240610
DTEND;VALUE=DATE:20240611
DTSTAMP:20260425T082252
CREATED:20230823T161804Z
LAST-MODIFIED:20240504T172727Z
UID:10000341-1717977600-1718063999@maidstone-vt.org
SUMMARY:Trash Pickup
DESCRIPTION:
URL:https://maidstone-vt.org/event/trash-pickup/2024-06-10/
CATEGORIES:Waste & Recycle
END:VEVENT
BEGIN:VEVENT
DTSTART;VALUE=DATE:20240617
DTEND;VALUE=DATE:20240618
DTSTAMP:20260425T082252
CREATED:20230823T161804Z
LAST-MODIFIED:20240504T172727Z
UID:10000342-1718582400-1718668799@maidstone-vt.org
SUMMARY:Trash Pickup
DESCRIPTION:
URL:https://maidstone-vt.org/event/trash-pickup/2024-06-17/
CATEGORIES:Waste & Recycle
END:VEVENT
BEGIN:VEVENT
DTSTART;VALUE=DATE:20240617
DTEND;VALUE=DATE:20240618
DTSTAMP:20260425T082252
CREATED:20240504T145653Z
LAST-MODIFIED:20240528T114615Z
UID:10000897-1718582400-1718668799@maidstone-vt.org
SUMMARY:Recycling
DESCRIPTION:
URL:https://maidstone-vt.org/event/recycling-2/2024-06-17/
LOCATION:Town Hall
CATEGORIES:Waste & Recycle
END:VEVENT
BEGIN:VEVENT
DTSTART;VALUE=DATE:20240624
DTEND;VALUE=DATE:20240625
DTSTAMP:20260425T082252
CREATED:20230823T161804Z
LAST-MODIFIED:20240504T172727Z
UID:10000343-1719187200-1719273599@maidstone-vt.org
SUMMARY:Trash Pickup
DESCRIPTION:
URL:https://maidstone-vt.org/event/trash-pickup/2024-06-24/
CATEGORIES:Waste & Recycle
END:VEVENT
BEGIN:VEVENT
DTSTART;VALUE=DATE:20240701
DTEND;VALUE=DATE:20240702
DTSTAMP:20260425T082252
CREATED:20230823T161804Z
LAST-MODIFIED:20240504T172727Z
UID:10000344-1719792000-1719878399@maidstone-vt.org
SUMMARY:Trash Pickup
DESCRIPTION:
URL:https://maidstone-vt.org/event/trash-pickup/2024-07-01/
CATEGORIES:Waste & Recycle
END:VEVENT
BEGIN:VEVENT
DTSTART;VALUE=DATE:20240701
DTEND;VALUE=DATE:20240702
DTSTAMP:20260425T082252
CREATED:20240504T145653Z
LAST-MODIFIED:20240528T114615Z
UID:10000898-1719792000-1719878399@maidstone-vt.org
SUMMARY:Recycling
DESCRIPTION:
URL:https://maidstone-vt.org/event/recycling-2/2024-07-01/
LOCATION:Town Hall
CATEGORIES:Waste & Recycle
END:VEVENT
BEGIN:VEVENT
DTSTART;VALUE=DATE:20240708
DTEND;VALUE=DATE:20240709
DTSTAMP:20260425T082252
CREATED:20230823T161804Z
LAST-MODIFIED:20240504T172727Z
UID:10000345-1720396800-1720483199@maidstone-vt.org
SUMMARY:Trash Pickup
DESCRIPTION:
URL:https://maidstone-vt.org/event/trash-pickup/2024-07-08/
CATEGORIES:Waste & Recycle
END:VEVENT
BEGIN:VEVENT
DTSTART;TZID=America/New_York:20240708T080000
DTEND;TZID=America/New_York:20240708T170000
DTSTAMP:20260425T082252
CREATED:20240706T121025Z
LAST-MODIFIED:20240706T121057Z
UID:10000942-1720425600-1720458000@maidstone-vt.org
SUMMARY:No Recycling Pickup Today
DESCRIPTION:Dottie Hodgdon has informed the Town Clerk that there will be no recycling pickup on Monday\, July 8\, 2024\, due to a mechanical problem at the facility in Lyndonville.
URL:https://maidstone-vt.org/event/no-recycling-pickup-today/
LOCATION:Town Hall
CATEGORIES:Waste & Recycle
END:VEVENT
BEGIN:VEVENT
DTSTART;VALUE=DATE:20240715
DTEND;VALUE=DATE:20240716
DTSTAMP:20260425T082252
CREATED:20230823T161804Z
LAST-MODIFIED:20240504T172727Z
UID:10000346-1721001600-1721087999@maidstone-vt.org
SUMMARY:Trash Pickup
DESCRIPTION:
URL:https://maidstone-vt.org/event/trash-pickup/2024-07-15/
CATEGORIES:Waste & Recycle
END:VEVENT
END:VCALENDAR