BEGIN:VCALENDAR
VERSION:2.0
PRODID:-//Town of Maidstone Vermont - ECPv6.15.20//NONSGML v1.0//EN
CALSCALE:GREGORIAN
METHOD:PUBLISH
X-WR-CALNAME:Town of Maidstone Vermont
X-ORIGINAL-URL:https://maidstone-vt.org
X-WR-CALDESC:Events for Town of Maidstone Vermont
REFRESH-INTERVAL;VALUE=DURATION:PT1H
X-Robots-Tag:noindex
X-PUBLISHED-TTL:PT1H
BEGIN:VTIMEZONE
TZID:America/New_York
BEGIN:DAYLIGHT
TZOFFSETFROM:-0500
TZOFFSETTO:-0400
TZNAME:EDT
DTSTART:20230312T070000
END:DAYLIGHT
BEGIN:STANDARD
TZOFFSETFROM:-0400
TZOFFSETTO:-0500
TZNAME:EST
DTSTART:20231105T060000
END:STANDARD
BEGIN:DAYLIGHT
TZOFFSETFROM:-0500
TZOFFSETTO:-0400
TZNAME:EDT
DTSTART:20240310T070000
END:DAYLIGHT
BEGIN:STANDARD
TZOFFSETFROM:-0400
TZOFFSETTO:-0500
TZNAME:EST
DTSTART:20241103T060000
END:STANDARD
BEGIN:DAYLIGHT
TZOFFSETFROM:-0500
TZOFFSETTO:-0400
TZNAME:EDT
DTSTART:20250309T070000
END:DAYLIGHT
BEGIN:STANDARD
TZOFFSETFROM:-0400
TZOFFSETTO:-0500
TZNAME:EST
DTSTART:20251102T060000
END:STANDARD
END:VTIMEZONE
BEGIN:VEVENT
DTSTART;VALUE=DATE:20240701
DTEND;VALUE=DATE:20240702
DTSTAMP:20260423T122009
CREATED:20230823T161804Z
LAST-MODIFIED:20240504T172727Z
UID:10000344-1719792000-1719878399@maidstone-vt.org
SUMMARY:Trash Pickup
DESCRIPTION:
URL:https://maidstone-vt.org/event/trash-pickup/2024-07-01/
CATEGORIES:Waste & Recycle
END:VEVENT
BEGIN:VEVENT
DTSTART;VALUE=DATE:20240701
DTEND;VALUE=DATE:20240702
DTSTAMP:20260423T122009
CREATED:20240504T145653Z
LAST-MODIFIED:20240528T114615Z
UID:10000898-1719792000-1719878399@maidstone-vt.org
SUMMARY:Recycling
DESCRIPTION:
URL:https://maidstone-vt.org/event/recycling-2/2024-07-01/
LOCATION:Town Hall
CATEGORIES:Waste & Recycle
END:VEVENT
BEGIN:VEVENT
DTSTART;VALUE=DATE:20240708
DTEND;VALUE=DATE:20240709
DTSTAMP:20260423T122009
CREATED:20230823T161804Z
LAST-MODIFIED:20240504T172727Z
UID:10000345-1720396800-1720483199@maidstone-vt.org
SUMMARY:Trash Pickup
DESCRIPTION:
URL:https://maidstone-vt.org/event/trash-pickup/2024-07-08/
CATEGORIES:Waste & Recycle
END:VEVENT
BEGIN:VEVENT
DTSTART;TZID=America/New_York:20240708T080000
DTEND;TZID=America/New_York:20240708T170000
DTSTAMP:20260423T122009
CREATED:20240706T121025Z
LAST-MODIFIED:20240706T121057Z
UID:10000942-1720425600-1720458000@maidstone-vt.org
SUMMARY:No Recycling Pickup Today
DESCRIPTION:Dottie Hodgdon has informed the Town Clerk that there will be no recycling pickup on Monday\, July 8\, 2024\, due to a mechanical problem at the facility in Lyndonville.
URL:https://maidstone-vt.org/event/no-recycling-pickup-today/
LOCATION:Town Hall
CATEGORIES:Waste & Recycle
END:VEVENT
BEGIN:VEVENT
DTSTART;VALUE=DATE:20240715
DTEND;VALUE=DATE:20240716
DTSTAMP:20260423T122009
CREATED:20230823T161804Z
LAST-MODIFIED:20240504T172727Z
UID:10000346-1721001600-1721087999@maidstone-vt.org
SUMMARY:Trash Pickup
DESCRIPTION:
URL:https://maidstone-vt.org/event/trash-pickup/2024-07-15/
CATEGORIES:Waste & Recycle
END:VEVENT
BEGIN:VEVENT
DTSTART;VALUE=DATE:20240715
DTEND;VALUE=DATE:20240716
DTSTAMP:20260423T122009
CREATED:20240504T145653Z
LAST-MODIFIED:20240528T114615Z
UID:10000899-1721001600-1721087999@maidstone-vt.org
SUMMARY:Recycling
DESCRIPTION:
URL:https://maidstone-vt.org/event/recycling-2/2024-07-15/
LOCATION:Town Hall
CATEGORIES:Waste & Recycle
END:VEVENT
BEGIN:VEVENT
DTSTART;VALUE=DATE:20240722
DTEND;VALUE=DATE:20240723
DTSTAMP:20260423T122009
CREATED:20230823T161804Z
LAST-MODIFIED:20240504T172727Z
UID:10000347-1721606400-1721692799@maidstone-vt.org
SUMMARY:Trash Pickup
DESCRIPTION:
URL:https://maidstone-vt.org/event/trash-pickup/2024-07-22/
CATEGORIES:Waste & Recycle
END:VEVENT
BEGIN:VEVENT
DTSTART;VALUE=DATE:20240729
DTEND;VALUE=DATE:20240730
DTSTAMP:20260423T122009
CREATED:20230823T161804Z
LAST-MODIFIED:20240504T172727Z
UID:10000348-1722211200-1722297599@maidstone-vt.org
SUMMARY:Trash Pickup
DESCRIPTION:
URL:https://maidstone-vt.org/event/trash-pickup/2024-07-29/
CATEGORIES:Waste & Recycle
END:VEVENT
BEGIN:VEVENT
DTSTART;VALUE=DATE:20240729
DTEND;VALUE=DATE:20240730
DTSTAMP:20260423T122009
CREATED:20240504T145653Z
LAST-MODIFIED:20240528T114615Z
UID:10000900-1722211200-1722297599@maidstone-vt.org
SUMMARY:Recycling
DESCRIPTION:
URL:https://maidstone-vt.org/event/recycling-2/2024-07-29/
LOCATION:Town Hall
CATEGORIES:Waste & Recycle
END:VEVENT
BEGIN:VEVENT
DTSTART;VALUE=DATE:20240805
DTEND;VALUE=DATE:20240806
DTSTAMP:20260423T122009
CREATED:20230823T161804Z
LAST-MODIFIED:20240504T172727Z
UID:10000349-1722816000-1722902399@maidstone-vt.org
SUMMARY:Trash Pickup
DESCRIPTION:
URL:https://maidstone-vt.org/event/trash-pickup/2024-08-05/
CATEGORIES:Waste & Recycle
END:VEVENT
BEGIN:VEVENT
DTSTART;VALUE=DATE:20240812
DTEND;VALUE=DATE:20240813
DTSTAMP:20260423T122009
CREATED:20230823T161804Z
LAST-MODIFIED:20240504T172727Z
UID:10000350-1723420800-1723507199@maidstone-vt.org
SUMMARY:Trash Pickup
DESCRIPTION:
URL:https://maidstone-vt.org/event/trash-pickup/2024-08-12/
CATEGORIES:Waste & Recycle
END:VEVENT
BEGIN:VEVENT
DTSTART;VALUE=DATE:20240812
DTEND;VALUE=DATE:20240813
DTSTAMP:20260423T122009
CREATED:20240504T145653Z
LAST-MODIFIED:20240528T114615Z
UID:10000901-1723420800-1723507199@maidstone-vt.org
SUMMARY:Recycling
DESCRIPTION:
URL:https://maidstone-vt.org/event/recycling-2/2024-08-12/
LOCATION:Town Hall
CATEGORIES:Waste & Recycle
END:VEVENT
BEGIN:VEVENT
DTSTART;VALUE=DATE:20240819
DTEND;VALUE=DATE:20240820
DTSTAMP:20260423T122009
CREATED:20230823T161804Z
LAST-MODIFIED:20240504T172727Z
UID:10000351-1724025600-1724111999@maidstone-vt.org
SUMMARY:Trash Pickup
DESCRIPTION:
URL:https://maidstone-vt.org/event/trash-pickup/2024-08-19/
CATEGORIES:Waste & Recycle
END:VEVENT
BEGIN:VEVENT
DTSTART;VALUE=DATE:20240826
DTEND;VALUE=DATE:20240827
DTSTAMP:20260423T122009
CREATED:20230823T161804Z
LAST-MODIFIED:20240504T172727Z
UID:10000352-1724630400-1724716799@maidstone-vt.org
SUMMARY:Trash Pickup
DESCRIPTION:
URL:https://maidstone-vt.org/event/trash-pickup/2024-08-26/
CATEGORIES:Waste & Recycle
END:VEVENT
BEGIN:VEVENT
DTSTART;VALUE=DATE:20240904
DTEND;VALUE=DATE:20240905
DTSTAMP:20260423T122009
CREATED:20230825T150734Z
LAST-MODIFIED:20240504T172859Z
UID:10000571-1725408000-1725494399@maidstone-vt.org
SUMMARY:Trash Pickup
DESCRIPTION:
URL:https://maidstone-vt.org/event/trash-pickup-2/
CATEGORIES:Waste & Recycle
END:VEVENT
BEGIN:VEVENT
DTSTART;VALUE=DATE:20240904
DTEND;VALUE=DATE:20240905
DTSTAMP:20260423T122009
CREATED:20240504T175308Z
LAST-MODIFIED:20240504T175308Z
UID:10000930-1725408000-1725494399@maidstone-vt.org
SUMMARY:Recycling
DESCRIPTION:
URL:https://maidstone-vt.org/event/recycling-3/
LOCATION:Town Hall
CATEGORIES:Waste & Recycle
END:VEVENT
BEGIN:VEVENT
DTSTART;VALUE=DATE:20240909
DTEND;VALUE=DATE:20240910
DTSTAMP:20260423T122009
CREATED:20230823T161804Z
LAST-MODIFIED:20240504T172727Z
UID:10000354-1725840000-1725926399@maidstone-vt.org
SUMMARY:Trash Pickup
DESCRIPTION:
URL:https://maidstone-vt.org/event/trash-pickup/2024-09-09/
CATEGORIES:Waste & Recycle
END:VEVENT
BEGIN:VEVENT
DTSTART;VALUE=DATE:20240916
DTEND;VALUE=DATE:20240917
DTSTAMP:20260423T122009
CREATED:20230823T161804Z
LAST-MODIFIED:20240504T172727Z
UID:10000355-1726444800-1726531199@maidstone-vt.org
SUMMARY:Trash Pickup
DESCRIPTION:
URL:https://maidstone-vt.org/event/trash-pickup/2024-09-16/
CATEGORIES:Waste & Recycle
END:VEVENT
BEGIN:VEVENT
DTSTART;VALUE=DATE:20240923
DTEND;VALUE=DATE:20240924
DTSTAMP:20260423T122009
CREATED:20230823T161804Z
LAST-MODIFIED:20240504T172727Z
UID:10000356-1727049600-1727135999@maidstone-vt.org
SUMMARY:Trash Pickup
DESCRIPTION:
URL:https://maidstone-vt.org/event/trash-pickup/2024-09-23/
CATEGORIES:Waste & Recycle
END:VEVENT
BEGIN:VEVENT
DTSTART;VALUE=DATE:20240930
DTEND;VALUE=DATE:20241001
DTSTAMP:20260423T122009
CREATED:20230823T161804Z
LAST-MODIFIED:20240504T172727Z
UID:10000357-1727654400-1727740799@maidstone-vt.org
SUMMARY:Trash Pickup
DESCRIPTION:
URL:https://maidstone-vt.org/event/trash-pickup/2024-09-30/
CATEGORIES:Waste & Recycle
END:VEVENT
BEGIN:VEVENT
DTSTART;VALUE=DATE:20241007
DTEND;VALUE=DATE:20241008
DTSTAMP:20260423T122009
CREATED:20230823T161804Z
LAST-MODIFIED:20240504T172727Z
UID:10000358-1728259200-1728345599@maidstone-vt.org
SUMMARY:Trash Pickup
DESCRIPTION:
URL:https://maidstone-vt.org/event/trash-pickup/2024-10-07/
CATEGORIES:Waste & Recycle
END:VEVENT
BEGIN:VEVENT
DTSTART;VALUE=DATE:20241014
DTEND;VALUE=DATE:20241015
DTSTAMP:20260423T122009
CREATED:20230823T161804Z
LAST-MODIFIED:20240504T172727Z
UID:10000359-1728864000-1728950399@maidstone-vt.org
SUMMARY:Trash Pickup
DESCRIPTION:
URL:https://maidstone-vt.org/event/trash-pickup/2024-10-14/
CATEGORIES:Waste & Recycle
END:VEVENT
BEGIN:VEVENT
DTSTART;VALUE=DATE:20241021
DTEND;VALUE=DATE:20241022
DTSTAMP:20260423T122009
CREATED:20230823T161804Z
LAST-MODIFIED:20240504T172727Z
UID:10000360-1729468800-1729555199@maidstone-vt.org
SUMMARY:Trash Pickup
DESCRIPTION:
URL:https://maidstone-vt.org/event/trash-pickup/2024-10-21/
CATEGORIES:Waste & Recycle
END:VEVENT
BEGIN:VEVENT
DTSTART;VALUE=DATE:20241028
DTEND;VALUE=DATE:20241029
DTSTAMP:20260423T122009
CREATED:20230823T161804Z
LAST-MODIFIED:20240504T172727Z
UID:10000361-1730073600-1730159999@maidstone-vt.org
SUMMARY:Trash Pickup
DESCRIPTION:
URL:https://maidstone-vt.org/event/trash-pickup/2024-10-28/
CATEGORIES:Waste & Recycle
END:VEVENT
BEGIN:VEVENT
DTSTART;VALUE=DATE:20241104
DTEND;VALUE=DATE:20241105
DTSTAMP:20260423T122009
CREATED:20230823T161804Z
LAST-MODIFIED:20240504T172727Z
UID:10000362-1730678400-1730764799@maidstone-vt.org
SUMMARY:Trash Pickup
DESCRIPTION:
URL:https://maidstone-vt.org/event/trash-pickup/2024-11-04/
CATEGORIES:Waste & Recycle
END:VEVENT
BEGIN:VEVENT
DTSTART;VALUE=DATE:20241111
DTEND;VALUE=DATE:20241112
DTSTAMP:20260423T122009
CREATED:20230823T161804Z
LAST-MODIFIED:20240504T172727Z
UID:10000363-1731283200-1731369599@maidstone-vt.org
SUMMARY:Trash Pickup
DESCRIPTION:
URL:https://maidstone-vt.org/event/trash-pickup/2024-11-11/
CATEGORIES:Waste & Recycle
END:VEVENT
BEGIN:VEVENT
DTSTART;VALUE=DATE:20241118
DTEND;VALUE=DATE:20241119
DTSTAMP:20260423T122009
CREATED:20230823T161804Z
LAST-MODIFIED:20240504T172727Z
UID:10000364-1731888000-1731974399@maidstone-vt.org
SUMMARY:Trash Pickup
DESCRIPTION:
URL:https://maidstone-vt.org/event/trash-pickup/2024-11-18/
CATEGORIES:Waste & Recycle
END:VEVENT
BEGIN:VEVENT
DTSTART;VALUE=DATE:20241125
DTEND;VALUE=DATE:20241126
DTSTAMP:20260423T122009
CREATED:20230823T161804Z
LAST-MODIFIED:20240504T172727Z
UID:10000365-1732492800-1732579199@maidstone-vt.org
SUMMARY:Trash Pickup
DESCRIPTION:
URL:https://maidstone-vt.org/event/trash-pickup/2024-11-25/
CATEGORIES:Waste & Recycle
END:VEVENT
BEGIN:VEVENT
DTSTART;VALUE=DATE:20241202
DTEND;VALUE=DATE:20241203
DTSTAMP:20260423T122009
CREATED:20230823T161804Z
LAST-MODIFIED:20240504T172727Z
UID:10000366-1733097600-1733183999@maidstone-vt.org
SUMMARY:Trash Pickup
DESCRIPTION:
URL:https://maidstone-vt.org/event/trash-pickup/2024-12-02/
CATEGORIES:Waste & Recycle
END:VEVENT
BEGIN:VEVENT
DTSTART;VALUE=DATE:20241209
DTEND;VALUE=DATE:20241210
DTSTAMP:20260423T122009
CREATED:20230823T161804Z
LAST-MODIFIED:20240504T172727Z
UID:10000367-1733702400-1733788799@maidstone-vt.org
SUMMARY:Trash Pickup
DESCRIPTION:
URL:https://maidstone-vt.org/event/trash-pickup/2024-12-09/
CATEGORIES:Waste & Recycle
END:VEVENT
END:VCALENDAR