BEGIN:VCALENDAR
VERSION:2.0
PRODID:-//Town of Maidstone Vermont - ECPv6.15.20//NONSGML v1.0//EN
CALSCALE:GREGORIAN
METHOD:PUBLISH
X-ORIGINAL-URL:https://maidstone-vt.org
X-WR-CALDESC:Events for Town of Maidstone Vermont
REFRESH-INTERVAL;VALUE=DURATION:PT1H
X-Robots-Tag:noindex
X-PUBLISHED-TTL:PT1H
BEGIN:VTIMEZONE
TZID:America/New_York
BEGIN:DAYLIGHT
TZOFFSETFROM:-0500
TZOFFSETTO:-0400
TZNAME:EDT
DTSTART:20230312T070000
END:DAYLIGHT
BEGIN:STANDARD
TZOFFSETFROM:-0400
TZOFFSETTO:-0500
TZNAME:EST
DTSTART:20231105T060000
END:STANDARD
BEGIN:DAYLIGHT
TZOFFSETFROM:-0500
TZOFFSETTO:-0400
TZNAME:EDT
DTSTART:20240310T070000
END:DAYLIGHT
BEGIN:STANDARD
TZOFFSETFROM:-0400
TZOFFSETTO:-0500
TZNAME:EST
DTSTART:20241103T060000
END:STANDARD
BEGIN:DAYLIGHT
TZOFFSETFROM:-0500
TZOFFSETTO:-0400
TZNAME:EDT
DTSTART:20250309T070000
END:DAYLIGHT
BEGIN:STANDARD
TZOFFSETFROM:-0400
TZOFFSETTO:-0500
TZNAME:EST
DTSTART:20251102T060000
END:STANDARD
END:VTIMEZONE
BEGIN:VEVENT
DTSTART;VALUE=DATE:20241202
DTEND;VALUE=DATE:20241203
DTSTAMP:20260422T190656
CREATED:20230823T161804Z
LAST-MODIFIED:20240504T172727Z
UID:10000366-1733097600-1733183999@maidstone-vt.org
SUMMARY:Trash Pickup
DESCRIPTION:
URL:https://maidstone-vt.org/event/trash-pickup/2024-12-02/
CATEGORIES:Waste & Recycle
END:VEVENT
BEGIN:VEVENT
DTSTART;VALUE=DATE:20241209
DTEND;VALUE=DATE:20241210
DTSTAMP:20260422T190656
CREATED:20230823T161804Z
LAST-MODIFIED:20240504T172727Z
UID:10000367-1733702400-1733788799@maidstone-vt.org
SUMMARY:Trash Pickup
DESCRIPTION:
URL:https://maidstone-vt.org/event/trash-pickup/2024-12-09/
CATEGORIES:Waste & Recycle
END:VEVENT
BEGIN:VEVENT
DTSTART;VALUE=DATE:20241216
DTEND;VALUE=DATE:20241217
DTSTAMP:20260422T190656
CREATED:20230823T161804Z
LAST-MODIFIED:20240504T172727Z
UID:10000368-1734307200-1734393599@maidstone-vt.org
SUMMARY:Trash Pickup
DESCRIPTION:
URL:https://maidstone-vt.org/event/trash-pickup/2024-12-16/
CATEGORIES:Waste & Recycle
END:VEVENT
BEGIN:VEVENT
DTSTART;VALUE=DATE:20241223
DTEND;VALUE=DATE:20241224
DTSTAMP:20260422T190656
CREATED:20230823T161804Z
LAST-MODIFIED:20240504T172727Z
UID:10000369-1734912000-1734998399@maidstone-vt.org
SUMMARY:Trash Pickup
DESCRIPTION:
URL:https://maidstone-vt.org/event/trash-pickup/2024-12-23/
CATEGORIES:Waste & Recycle
END:VEVENT
BEGIN:VEVENT
DTSTART;VALUE=DATE:20241230
DTEND;VALUE=DATE:20241231
DTSTAMP:20260422T190656
CREATED:20230823T161804Z
LAST-MODIFIED:20240504T172727Z
UID:10000370-1735516800-1735603199@maidstone-vt.org
SUMMARY:Trash Pickup
DESCRIPTION:
URL:https://maidstone-vt.org/event/trash-pickup/2024-12-30/
CATEGORIES:Waste & Recycle
END:VEVENT
END:VCALENDAR