BEGIN:VCALENDAR
VERSION:2.0
PRODID:-//Town of Maidstone Vermont - ECPv6.15.17.1//NONSGML v1.0//EN
CALSCALE:GREGORIAN
METHOD:PUBLISH
X-WR-CALNAME:Town of Maidstone Vermont
X-ORIGINAL-URL:https://maidstone-vt.org
X-WR-CALDESC:Events for Town of Maidstone Vermont
REFRESH-INTERVAL;VALUE=DURATION:PT1H
X-Robots-Tag:noindex
X-PUBLISHED-TTL:PT1H
BEGIN:VTIMEZONE
TZID:America/New_York
BEGIN:DAYLIGHT
TZOFFSETFROM:-0500
TZOFFSETTO:-0400
TZNAME:EDT
DTSTART:20230312T070000
END:DAYLIGHT
BEGIN:STANDARD
TZOFFSETFROM:-0400
TZOFFSETTO:-0500
TZNAME:EST
DTSTART:20231105T060000
END:STANDARD
BEGIN:DAYLIGHT
TZOFFSETFROM:-0500
TZOFFSETTO:-0400
TZNAME:EDT
DTSTART:20240310T070000
END:DAYLIGHT
BEGIN:STANDARD
TZOFFSETFROM:-0400
TZOFFSETTO:-0500
TZNAME:EST
DTSTART:20241103T060000
END:STANDARD
BEGIN:DAYLIGHT
TZOFFSETFROM:-0500
TZOFFSETTO:-0400
TZNAME:EDT
DTSTART:20250309T070000
END:DAYLIGHT
BEGIN:STANDARD
TZOFFSETFROM:-0400
TZOFFSETTO:-0500
TZNAME:EST
DTSTART:20251102T060000
END:STANDARD
END:VTIMEZONE
BEGIN:VEVENT
DTSTART;TZID=America/New_York:20240805T190000
DTEND;TZID=America/New_York:20240805T203000
DTSTAMP:20260419T104622
CREATED:20240801T173608Z
LAST-MODIFIED:20240912T164900Z
UID:10000945-1722884400-1722889800@maidstone-vt.org
SUMMARY:Selectboard Meeting
DESCRIPTION:ZOOM Recording. Passcode: 2=y6QZ@P \n  \nBACKGROUND DOCUMENTS:\nSelectboard Warrant 2024-07\nBudget to Actual 2024-07-31\n2023 Setting the Property Tax Rate (1)\n2024 Setting the Property Tax Rate option 1\n2024 Setting the Property Tax Rate option 2\nDelinquent Tax Collector Report as of 2024-08-01
URL:https://maidstone-vt.org/event/selectboard-meeting-19/
LOCATION:Hybrid
CATEGORIES:Selectboard
END:VEVENT
BEGIN:VEVENT
DTSTART;TZID=America/New_York:20240812T190000
DTEND;TZID=America/New_York:20240812T200000
DTSTAMP:20260419T104622
CREATED:20240808T182331Z
LAST-MODIFIED:20240812T183809Z
UID:10000947-1723489200-1723492800@maidstone-vt.org
SUMMARY:Special Selectboard Meeting - Cancelled
DESCRIPTION:MEETING CANCELLED
URL:https://maidstone-vt.org/event/special-selectboard-meeting-7/
LOCATION:Town Hall
CATEGORIES:Selectboard
END:VEVENT
BEGIN:VEVENT
DTSTART;TZID=America/New_York:20240819T190000
DTEND;TZID=America/New_York:20240819T200000
DTSTAMP:20260419T104622
CREATED:20240812T184517Z
LAST-MODIFIED:20240912T165216Z
UID:10000948-1724094000-1724097600@maidstone-vt.org
SUMMARY:Special Selectboard Meeting
DESCRIPTION:ZOOM Recording. Passcode: I18Gz^VW\n\n\n2023 Setting the Property Tax Rate (1)\n2024 Setting the Property Tax Rate option 1\n2024 Setting the Property Tax Rate option 2
URL:https://maidstone-vt.org/event/special-selectboard-meeting-8/
LOCATION:Hybrid
CATEGORIES:Selectboard
END:VEVENT
END:VCALENDAR