BEGIN:VCALENDAR
VERSION:2.0
PRODID:-//Town of Maidstone Vermont - ECPv6.15.17.1//NONSGML v1.0//EN
CALSCALE:GREGORIAN
METHOD:PUBLISH
X-WR-CALNAME:Town of Maidstone Vermont
X-ORIGINAL-URL:https://maidstone-vt.org
X-WR-CALDESC:Events for Town of Maidstone Vermont
REFRESH-INTERVAL;VALUE=DURATION:PT1H
X-Robots-Tag:noindex
X-PUBLISHED-TTL:PT1H
BEGIN:VTIMEZONE
TZID:America/New_York
BEGIN:DAYLIGHT
TZOFFSETFROM:-0500
TZOFFSETTO:-0400
TZNAME:EDT
DTSTART:20230312T070000
END:DAYLIGHT
BEGIN:STANDARD
TZOFFSETFROM:-0400
TZOFFSETTO:-0500
TZNAME:EST
DTSTART:20231105T060000
END:STANDARD
BEGIN:DAYLIGHT
TZOFFSETFROM:-0500
TZOFFSETTO:-0400
TZNAME:EDT
DTSTART:20240310T070000
END:DAYLIGHT
BEGIN:STANDARD
TZOFFSETFROM:-0400
TZOFFSETTO:-0500
TZNAME:EST
DTSTART:20241103T060000
END:STANDARD
BEGIN:DAYLIGHT
TZOFFSETFROM:-0500
TZOFFSETTO:-0400
TZNAME:EDT
DTSTART:20250309T070000
END:DAYLIGHT
BEGIN:STANDARD
TZOFFSETFROM:-0400
TZOFFSETTO:-0500
TZNAME:EST
DTSTART:20251102T060000
END:STANDARD
END:VTIMEZONE
BEGIN:VEVENT
DTSTART;TZID=America/New_York:20240506T190000
DTEND;TZID=America/New_York:20240506T210000
DTSTAMP:20260419T150407
CREATED:20240502T161208Z
LAST-MODIFIED:20240610T160256Z
UID:10000696-1715022000-1715029200@maidstone-vt.org
SUMMARY:Selectboard Meeting
DESCRIPTION:To watch the zoom recording of this meeting\, click on the link below and use the given passcode\nhttps://us02web.zoom.us/rec/share/SP8fD8krZl90_M5tPELaK2_j1cDmb-6VZVFOPXVTZJFjoWkJMmODNEKpg7FiA0Nb.80s6u5H9my9dA-hP\nPasscode: S%w!7WWt\n  \n\nBackground Documents:\nBudget to Actual\nSelectboard Warrant\nDelinquent Tax Collector Report
URL:https://maidstone-vt.org/event/selectboard-meeting-16/
CATEGORIES:Selectboard
END:VEVENT
END:VCALENDAR