BEGIN:VCALENDAR
VERSION:2.0
PRODID:-//Town of Maidstone Vermont - ECPv6.15.20//NONSGML v1.0//EN
CALSCALE:GREGORIAN
METHOD:PUBLISH
X-WR-CALNAME:Town of Maidstone Vermont
X-ORIGINAL-URL:https://maidstone-vt.org
X-WR-CALDESC:Events for Town of Maidstone Vermont
REFRESH-INTERVAL;VALUE=DURATION:PT1H
X-Robots-Tag:noindex
X-PUBLISHED-TTL:PT1H
BEGIN:VTIMEZONE
TZID:America/New_York
BEGIN:DAYLIGHT
TZOFFSETFROM:-0500
TZOFFSETTO:-0400
TZNAME:EDT
DTSTART:20230312T070000
END:DAYLIGHT
BEGIN:STANDARD
TZOFFSETFROM:-0400
TZOFFSETTO:-0500
TZNAME:EST
DTSTART:20231105T060000
END:STANDARD
BEGIN:DAYLIGHT
TZOFFSETFROM:-0500
TZOFFSETTO:-0400
TZNAME:EDT
DTSTART:20240310T070000
END:DAYLIGHT
BEGIN:STANDARD
TZOFFSETFROM:-0400
TZOFFSETTO:-0500
TZNAME:EST
DTSTART:20241103T060000
END:STANDARD
BEGIN:DAYLIGHT
TZOFFSETFROM:-0500
TZOFFSETTO:-0400
TZNAME:EDT
DTSTART:20250309T070000
END:DAYLIGHT
BEGIN:STANDARD
TZOFFSETFROM:-0400
TZOFFSETTO:-0500
TZNAME:EST
DTSTART:20251102T060000
END:STANDARD
END:VTIMEZONE
BEGIN:VEVENT
DTSTART;TZID=America/New_York:20240108T190000
DTEND;TZID=America/New_York:20240108T210000
DTSTAMP:20260419T211451
CREATED:20231213T170057Z
LAST-MODIFIED:20240130T202248Z
UID:10000641-1704740400-1704747600@maidstone-vt.org
SUMMARY:Selectboard Meeting
DESCRIPTION:Background Documents:\nSelectboard Warrant December 2023\nBudget to Actual December 2023\nDelinquent Tax Collector’s Report as of December 31\, 2023
URL:https://maidstone-vt.org/event/2024-01-08-selectboard-meeting/
LOCATION:Hybrid
CATEGORIES:Selectboard
END:VEVENT
BEGIN:VEVENT
DTSTART;TZID=America/New_York:20240115T190000
DTEND;TZID=America/New_York:20240115T210000
DTSTAMP:20260419T211451
CREATED:20240109T022658Z
LAST-MODIFIED:20240130T202324Z
UID:10000648-1705345200-1705352400@maidstone-vt.org
SUMMARY:Special Selectboard Meeting
DESCRIPTION:Background Document(s):\n2024 Maidstone Budget Worksheet
URL:https://maidstone-vt.org/event/special-selectboard-meeting-3/
LOCATION:Hybrid
CATEGORIES:Selectboard
END:VEVENT
BEGIN:VEVENT
DTSTART;TZID=America/New_York:20240129T190000
DTEND;TZID=America/New_York:20240129T210000
DTSTAMP:20260419T211451
CREATED:20240125T022720Z
LAST-MODIFIED:20240206T022155Z
UID:10000649-1706554800-1706562000@maidstone-vt.org
SUMMARY:Special Selectboard Meeting
DESCRIPTION:Background Documents:\n2024 Maidstone Budget Worksheet\n(This document will be completed by the Treasurer as soon as the numbers are available.)\n 
URL:https://maidstone-vt.org/event/special-selectboard-meeting-4/
LOCATION:Town Hall
CATEGORIES:Selectboard
END:VEVENT
END:VCALENDAR