BEGIN:VCALENDAR
VERSION:2.0
PRODID:-//Town of Maidstone Vermont - ECPv6.15.20//NONSGML v1.0//EN
CALSCALE:GREGORIAN
METHOD:PUBLISH
X-ORIGINAL-URL:https://maidstone-vt.org
X-WR-CALDESC:Events for Town of Maidstone Vermont
REFRESH-INTERVAL;VALUE=DURATION:PT1H
X-Robots-Tag:noindex
X-PUBLISHED-TTL:PT1H
BEGIN:VTIMEZONE
TZID:America/New_York
BEGIN:DAYLIGHT
TZOFFSETFROM:-0500
TZOFFSETTO:-0400
TZNAME:EDT
DTSTART:20220313T070000
END:DAYLIGHT
BEGIN:STANDARD
TZOFFSETFROM:-0400
TZOFFSETTO:-0500
TZNAME:EST
DTSTART:20221106T060000
END:STANDARD
BEGIN:DAYLIGHT
TZOFFSETFROM:-0500
TZOFFSETTO:-0400
TZNAME:EDT
DTSTART:20230312T070000
END:DAYLIGHT
BEGIN:STANDARD
TZOFFSETFROM:-0400
TZOFFSETTO:-0500
TZNAME:EST
DTSTART:20231105T060000
END:STANDARD
BEGIN:DAYLIGHT
TZOFFSETFROM:-0500
TZOFFSETTO:-0400
TZNAME:EDT
DTSTART:20240310T070000
END:DAYLIGHT
BEGIN:STANDARD
TZOFFSETFROM:-0400
TZOFFSETTO:-0500
TZNAME:EST
DTSTART:20241103T060000
END:STANDARD
END:VTIMEZONE
BEGIN:VEVENT
DTSTART;TZID=America/New_York:20231204T190000
DTEND;TZID=America/New_York:20231204T210000
DTSTAMP:20260419T224430
CREATED:20230815T222227Z
LAST-MODIFIED:20240109T030342Z
UID:10000042-1701716400-1701723600@maidstone-vt.org
SUMMARY:Selectboard Meeting
DESCRIPTION:Background Documents:\nDelinquent Tax Collector Report as of 2023-11-30\nBudget Worksheet for 2024\nBudget to Actual November 2023\nSelectboard Warrant November 2023\nExcerpts from Email to Zoning Administrator Candidates 2023-02-24\nDraft Job Description for Zoning Administrator\nEmail to Selectboard re: Zoning Administrator Pay 2023-11-27\nExcerpt from 2023-11-27 Draft Minutes
URL:https://maidstone-vt.org/event/selectboard-meeting-9/
LOCATION:Hybrid
CATEGORIES:Selectboard
END:VEVENT
END:VCALENDAR