BEGIN:VCALENDAR
VERSION:2.0
PRODID:-//Town of Maidstone Vermont - ECPv6.15.20//NONSGML v1.0//EN
CALSCALE:GREGORIAN
METHOD:PUBLISH
X-ORIGINAL-URL:https://maidstone-vt.org
X-WR-CALDESC:Events for Town of Maidstone Vermont
REFRESH-INTERVAL;VALUE=DURATION:PT1H
X-Robots-Tag:noindex
X-PUBLISHED-TTL:PT1H
BEGIN:VTIMEZONE
TZID:America/New_York
BEGIN:DAYLIGHT
TZOFFSETFROM:-0500
TZOFFSETTO:-0400
TZNAME:EDT
DTSTART:20230312T070000
END:DAYLIGHT
BEGIN:STANDARD
TZOFFSETFROM:-0400
TZOFFSETTO:-0500
TZNAME:EST
DTSTART:20231105T060000
END:STANDARD
BEGIN:DAYLIGHT
TZOFFSETFROM:-0500
TZOFFSETTO:-0400
TZNAME:EDT
DTSTART:20240310T070000
END:DAYLIGHT
BEGIN:STANDARD
TZOFFSETFROM:-0400
TZOFFSETTO:-0500
TZNAME:EST
DTSTART:20241103T060000
END:STANDARD
BEGIN:DAYLIGHT
TZOFFSETFROM:-0500
TZOFFSETTO:-0400
TZNAME:EDT
DTSTART:20250309T070000
END:DAYLIGHT
BEGIN:STANDARD
TZOFFSETFROM:-0400
TZOFFSETTO:-0500
TZNAME:EST
DTSTART:20251102T060000
END:STANDARD
BEGIN:DAYLIGHT
TZOFFSETFROM:-0500
TZOFFSETTO:-0400
TZNAME:EDT
DTSTART:20260308T070000
END:DAYLIGHT
BEGIN:STANDARD
TZOFFSETFROM:-0400
TZOFFSETTO:-0500
TZNAME:EST
DTSTART:20261101T060000
END:STANDARD
END:VTIMEZONE
BEGIN:VEVENT
DTSTART;TZID=America/New_York:20241112T180000
DTEND;TZID=America/New_York:20241112T200000
DTSTAMP:20260419T215229
CREATED:20241107T192348Z
LAST-MODIFIED:20241209T183709Z
UID:10000960-1731434400-1731441600@maidstone-vt.org
SUMMARY:Planning Commission Meeting
DESCRIPTION:Zoom Link – P/W = nfYZ0&7K
URL:https://maidstone-vt.org/event/planning-commission-meeting-14/
LOCATION:Hybrid
CATEGORIES:Planning Commission
END:VEVENT
BEGIN:VEVENT
DTSTART;TZID=America/New_York:20241205T190000
DTEND;TZID=America/New_York:20241205T203000
DTSTAMP:20260419T215229
CREATED:20241202T160152Z
LAST-MODIFIED:20250116T162258Z
UID:10000962-1733425200-1733430600@maidstone-vt.org
SUMMARY:Planning Commission Meeting
DESCRIPTION:Zoom Link –\nP/W – VJ?#.IZ3
URL:https://maidstone-vt.org/event/planning-commission-meeting-15/
LOCATION:Hybrid
CATEGORIES:Planning Commission
END:VEVENT
BEGIN:VEVENT
DTSTART;TZID=America/New_York:20250109T190000
DTEND;TZID=America/New_York:20250109T210000
DTSTAMP:20260419T215229
CREATED:20241209T184409Z
LAST-MODIFIED:20250217T143142Z
UID:10000964-1736449200-1736456400@maidstone-vt.org
SUMMARY:Planning Commission
DESCRIPTION:
URL:https://maidstone-vt.org/event/planning-commission-2/
LOCATION:Hybrid
CATEGORIES:Planning Commission
END:VEVENT
BEGIN:VEVENT
DTSTART;TZID=America/New_York:20250213T190000
DTEND;TZID=America/New_York:20250213T210000
DTSTAMP:20260419T215229
CREATED:20250120T181518Z
LAST-MODIFIED:20250515T174450Z
UID:10000969-1739473200-1739480400@maidstone-vt.org
SUMMARY:Planning Commission
DESCRIPTION:Zoom
URL:https://maidstone-vt.org/event/planning-commission-3/
LOCATION:Hybrid
CATEGORIES:Planning Commission
END:VEVENT
BEGIN:VEVENT
DTSTART;TZID=America/New_York:20250313T190000
DTEND;TZID=America/New_York:20250313T203000
DTSTAMP:20260419T215229
CREATED:20250310T152141Z
LAST-MODIFIED:20250414T182815Z
UID:10000981-1741892400-1741897800@maidstone-vt.org
SUMMARY:Planning Commission Meeting
DESCRIPTION:Zoom
URL:https://maidstone-vt.org/event/planning-commission-meeting-16/
LOCATION:Hybrid
CATEGORIES:Planning Commission
END:VEVENT
BEGIN:VEVENT
DTSTART;TZID=America/New_York:20250410T190000
DTEND;TZID=America/New_York:20250410T203000
DTSTAMP:20260419T215229
CREATED:20250407T142915Z
LAST-MODIFIED:20250528T160518Z
UID:10000988-1744311600-1744317000@maidstone-vt.org
SUMMARY:Planning Commission Meeting
DESCRIPTION:ZOOM
URL:https://maidstone-vt.org/event/planning-commission-meeting-17/
LOCATION:Hybrid
CATEGORIES:Planning Commission
END:VEVENT
BEGIN:VEVENT
DTSTART;TZID=America/New_York:20250428T190000
DTEND;TZID=America/New_York:20250428T193000
DTSTAMP:20260419T215229
CREATED:20250414T143934Z
LAST-MODIFIED:20250428T160841Z
UID:10000992-1745866800-1745868600@maidstone-vt.org
SUMMARY:Planning Commission Meeting (CANCELED)
DESCRIPTION:This meeting has been canceled due to the lack of any applicants for the Zoning Administrator position.
URL:https://maidstone-vt.org/event/planning-commission-meeting-19/
LOCATION:Hybrid
CATEGORIES:Planning Commission
END:VEVENT
BEGIN:VEVENT
DTSTART;TZID=America/New_York:20250522T190000
DTEND;TZID=America/New_York:20250522T210000
DTSTAMP:20260419T215229
CREATED:20250414T143831Z
LAST-MODIFIED:20250616T155915Z
UID:10000991-1747940400-1747947600@maidstone-vt.org
SUMMARY:Planning Commission Meeting
DESCRIPTION:
URL:https://maidstone-vt.org/event/planning-commission-meeting-18/
LOCATION:Hybrid
CATEGORIES:Planning Commission
END:VEVENT
BEGIN:VEVENT
DTSTART;TZID=America/New_York:20250612T190000
DTEND;TZID=America/New_York:20250612T210000
DTSTAMP:20260419T215229
CREATED:20250609T174612Z
LAST-MODIFIED:20250626T160305Z
UID:10001000-1749754800-1749762000@maidstone-vt.org
SUMMARY:Planning Commission Meeting
DESCRIPTION:ZOOM
URL:https://maidstone-vt.org/event/planning-commission-meeting-20/
LOCATION:Hybrid
CATEGORIES:Planning Commission
END:VEVENT
BEGIN:VEVENT
DTSTART;TZID=America/New_York:20250624T190000
DTEND;TZID=America/New_York:20250624T210000
DTSTAMP:20260419T215229
CREATED:20250619T174907Z
LAST-MODIFIED:20250714T171600Z
UID:10001001-1750791600-1750798800@maidstone-vt.org
SUMMARY:Planning Commission Meeting
DESCRIPTION:ZOOM
URL:https://maidstone-vt.org/event/planning-commission-meeting-21/
LOCATION:Hybrid
CATEGORIES:Planning Commission
END:VEVENT
BEGIN:VEVENT
DTSTART;TZID=America/New_York:20250710T190000
DTEND;TZID=America/New_York:20250710T203000
DTSTAMP:20260419T215229
CREATED:20250703T144158Z
LAST-MODIFIED:20250714T173144Z
UID:10001003-1752174000-1752179400@maidstone-vt.org
SUMMARY:Planning Commission
DESCRIPTION:ZOOM – Due to technical difficulties the link could not be uploaded contact Town Hall if you would like the link sent to you.
URL:https://maidstone-vt.org/event/planning-commission-4/
LOCATION:Hybrid
CATEGORIES:Planning Commission
END:VEVENT
BEGIN:VEVENT
DTSTART;TZID=America/New_York:20250807T180000
DTEND;TZID=America/New_York:20250807T193000
DTSTAMP:20260419T215229
CREATED:20250804T135157Z
LAST-MODIFIED:20250825T150549Z
UID:10001007-1754589600-1754595000@maidstone-vt.org
SUMMARY:Planning Commission Meeting
DESCRIPTION:ZOOM
URL:https://maidstone-vt.org/event/planning-commission-meeting-23/
LOCATION:Hybrid
CATEGORIES:Planning Commission
END:VEVENT
BEGIN:VEVENT
DTSTART;TZID=America/New_York:20250821T190000
DTEND;TZID=America/New_York:20250821T200000
DTSTAMP:20260419T215229
CREATED:20250818T143655Z
LAST-MODIFIED:20251013T122728Z
UID:10001010-1755802800-1755806400@maidstone-vt.org
SUMMARY:Planning Commission
DESCRIPTION:Checklist for Municipal Plan\nZOOM
URL:https://maidstone-vt.org/event/planning-commission-5/
LOCATION:Hybrid
CATEGORIES:Planning Commission
END:VEVENT
BEGIN:VEVENT
DTSTART;TZID=America/New_York:20250925T173000
DTEND;TZID=America/New_York:20250925T190000
DTSTAMP:20260419T215229
CREATED:20250825T184132Z
LAST-MODIFIED:20251013T122830Z
UID:10001012-1758821400-1758826800@maidstone-vt.org
SUMMARY:Public Hearing - Planning Commission
DESCRIPTION:Notice of Public Hearing\nMaidstone Town Plan Final\nMaidstone Planning Commission Written Report\nZOOM
URL:https://maidstone-vt.org/event/public-hearing-planning-commission/
LOCATION:Hybrid
CATEGORIES:Planning Commission
END:VEVENT
BEGIN:VEVENT
DTSTART;TZID=America/New_York:20251009T190000
DTEND;TZID=America/New_York:20251009T200000
DTSTAMP:20260419T215229
CREATED:20251002T181336Z
LAST-MODIFIED:20251016T164231Z
UID:10001016-1760036400-1760040000@maidstone-vt.org
SUMMARY:Planning Commission Meeting
DESCRIPTION:zoom
URL:https://maidstone-vt.org/event/planning-commission-meeting-22/
LOCATION:Hybrid
CATEGORIES:Planning Commission
END:VEVENT
BEGIN:VEVENT
DTSTART;TZID=America/New_York:20251013T190000
DTEND;TZID=America/New_York:20251013T200000
DTSTAMP:20260419T215229
CREATED:20251012T121619Z
LAST-MODIFIED:20251016T160306Z
UID:10001019-1760382000-1760385600@maidstone-vt.org
SUMMARY:Special Planning Commission Meeting
DESCRIPTION:zoom
URL:https://maidstone-vt.org/event/special-planning-commission-meeting-4/
LOCATION:Hybrid
CATEGORIES:Planning Commission
END:VEVENT
END:VCALENDAR