BEGIN:VCALENDAR
VERSION:2.0
PRODID:-//Town of Maidstone Vermont - ECPv6.15.20//NONSGML v1.0//EN
CALSCALE:GREGORIAN
METHOD:PUBLISH
X-ORIGINAL-URL:https://maidstone-vt.org
X-WR-CALDESC:Events for Town of Maidstone Vermont
REFRESH-INTERVAL;VALUE=DURATION:PT1H
X-Robots-Tag:noindex
X-PUBLISHED-TTL:PT1H
BEGIN:VTIMEZONE
TZID:America/New_York
BEGIN:DAYLIGHT
TZOFFSETFROM:-0500
TZOFFSETTO:-0400
TZNAME:EDT
DTSTART:20250309T070000
END:DAYLIGHT
BEGIN:STANDARD
TZOFFSETFROM:-0400
TZOFFSETTO:-0500
TZNAME:EST
DTSTART:20251102T060000
END:STANDARD
BEGIN:DAYLIGHT
TZOFFSETFROM:-0500
TZOFFSETTO:-0400
TZNAME:EDT
DTSTART:20260308T070000
END:DAYLIGHT
BEGIN:STANDARD
TZOFFSETFROM:-0400
TZOFFSETTO:-0500
TZNAME:EST
DTSTART:20261101T060000
END:STANDARD
BEGIN:DAYLIGHT
TZOFFSETFROM:-0500
TZOFFSETTO:-0400
TZNAME:EDT
DTSTART:20270314T070000
END:DAYLIGHT
BEGIN:STANDARD
TZOFFSETFROM:-0400
TZOFFSETTO:-0500
TZNAME:EST
DTSTART:20271107T060000
END:STANDARD
END:VTIMEZONE
BEGIN:VEVENT
DTSTART;VALUE=DATE:20260525
DTEND;VALUE=DATE:20260526
DTSTAMP:20260420T002641
CREATED:20260105T173853Z
LAST-MODIFIED:20260105T173853Z
UID:10001045-1779667200-1779753599@maidstone-vt.org
SUMMARY:Maidstone Town Hall Closed
DESCRIPTION:
URL:https://maidstone-vt.org/event/maidstone-town-hall-closed-2/
LOCATION:Town Hall
CATEGORIES:Holiday
END:VEVENT
BEGIN:VEVENT
DTSTART;VALUE=DATE:20260907
DTEND;VALUE=DATE:20260908
DTSTAMP:20260420T002641
CREATED:20260105T173955Z
LAST-MODIFIED:20260105T173955Z
UID:10001046-1788739200-1788825599@maidstone-vt.org
SUMMARY:Maidstone Town Hall Closed
DESCRIPTION:
URL:https://maidstone-vt.org/event/maidstone-town-hall-closed-3/
LOCATION:Town Hall
CATEGORIES:Holiday
END:VEVENT
BEGIN:VEVENT
DTSTART;VALUE=DATE:20261012
DTEND;VALUE=DATE:20261013
DTSTAMP:20260420T002641
CREATED:20260105T174030Z
LAST-MODIFIED:20260105T174030Z
UID:10001047-1791763200-1791849599@maidstone-vt.org
SUMMARY:Maidstone Town Hall Closed
DESCRIPTION:
URL:https://maidstone-vt.org/event/maidstone-town-hall-closed-4/
LOCATION:Town Hall
CATEGORIES:Holiday
END:VEVENT
BEGIN:VEVENT
DTSTART;VALUE=DATE:20261126
DTEND;VALUE=DATE:20261127
DTSTAMP:20260420T002641
CREATED:20260105T174105Z
LAST-MODIFIED:20260105T174105Z
UID:10001048-1795651200-1795737599@maidstone-vt.org
SUMMARY:Maidstone Town Hall Closed
DESCRIPTION:
URL:https://maidstone-vt.org/event/maidstone-town-hall-closed-5/
LOCATION:Town Hall
CATEGORIES:Holiday
END:VEVENT
BEGIN:VEVENT
DTSTART;VALUE=DATE:20261231
DTEND;VALUE=DATE:20270101
DTSTAMP:20260420T002641
CREATED:20260105T174136Z
LAST-MODIFIED:20260105T174202Z
UID:10001049-1798675200-1798761599@maidstone-vt.org
SUMMARY:Maidstone Town Hall Closed
DESCRIPTION:
URL:https://maidstone-vt.org/event/maidstone-town-hall-closed-6/
LOCATION:Town Hall
CATEGORIES:Holiday
END:VEVENT
END:VCALENDAR