BEGIN:VCALENDAR
VERSION:2.0
PRODID:-//Town of Maidstone Vermont - ECPv6.15.17.1//NONSGML v1.0//EN
CALSCALE:GREGORIAN
METHOD:PUBLISH
X-WR-CALNAME:Town of Maidstone Vermont
X-ORIGINAL-URL:https://maidstone-vt.org
X-WR-CALDESC:Events for Town of Maidstone Vermont
REFRESH-INTERVAL;VALUE=DURATION:PT1H
X-Robots-Tag:noindex
X-PUBLISHED-TTL:PT1H
BEGIN:VTIMEZONE
TZID:America/New_York
BEGIN:DAYLIGHT
TZOFFSETFROM:-0500
TZOFFSETTO:-0400
TZNAME:EDT
DTSTART:20230312T070000
END:DAYLIGHT
BEGIN:STANDARD
TZOFFSETFROM:-0400
TZOFFSETTO:-0500
TZNAME:EST
DTSTART:20231105T060000
END:STANDARD
BEGIN:DAYLIGHT
TZOFFSETFROM:-0500
TZOFFSETTO:-0400
TZNAME:EDT
DTSTART:20240310T070000
END:DAYLIGHT
BEGIN:STANDARD
TZOFFSETFROM:-0400
TZOFFSETTO:-0500
TZNAME:EST
DTSTART:20241103T060000
END:STANDARD
BEGIN:DAYLIGHT
TZOFFSETFROM:-0500
TZOFFSETTO:-0400
TZNAME:EDT
DTSTART:20250309T070000
END:DAYLIGHT
BEGIN:STANDARD
TZOFFSETFROM:-0400
TZOFFSETTO:-0500
TZNAME:EST
DTSTART:20251102T060000
END:STANDARD
END:VTIMEZONE
BEGIN:VEVENT
DTSTART;TZID=America/New_York:20240919T163000
DTEND;TZID=America/New_York:20240919T173000
DTSTAMP:20260419T080711
CREATED:20240919T143450Z
LAST-MODIFIED:20240919T143450Z
UID:10000953-1726763400-1726767000@maidstone-vt.org
SUMMARY:ENSU Meeting
DESCRIPTION:
URL:https://maidstone-vt.org/event/ensu-meeting/
LOCATION:Hybrid
CATEGORIES:Essex North Supervisory Union (ENSU)
END:VEVENT
BEGIN:VEVENT
DTSTART;TZID=America/New_York:20240919T164500
DTEND;TZID=America/New_York:20240919T180000
DTSTAMP:20260419T080711
CREATED:20240412T143356Z
LAST-MODIFIED:20240412T143538Z
UID:10000675-1726764300-1726768800@maidstone-vt.org
SUMMARY:ENSU Board Meeting
DESCRIPTION:The Essex North Supervisory Union (ENSU) Board of Directors will hold a hybrid meeting on Thursday\, September 19\, 2024 at Maidstone Town Hall. The Agenda and the Zoom link will be posted as soon as they are available.\nAll meetings of the ENSU Board of Directors are open to the public. Community members are encouraged to attend and participate. Meetings are hybrid\, held in-person and via Zoom\, either at Maidstone Town Hall or Canaan Memorial High School Library. The location of the meetings for the 2024-2025 School Year is as follows:\n\n\nAugust 12\, 2024: Canaan Memorial HS Library\n\n\nSeptember 19\,\, 2024: Maidstone Town Hall\n\n\nOctober 21\, 2024: Canaan Memorial HS Library\n\n\nNovember 21\, 2024: Maidstone Town Hall\n\n\nDecember 16\, 2024: Canaan Memorial HS Library\n\n\nJanuary 16\, 2025: Maidstone Town Hall\n\n\nFebruary 25\, 2025: Canaan Memorial HS Library\n\n\nMarch 24\, 2025: Canaan Memorial HS Library\n\n\nJune 19\, 2025: Maidstone Town Hall
URL:https://maidstone-vt.org/event/ensu-board-meeting-2/
LOCATION:Hybrid
CATEGORIES:Essex North Supervisory Union (ENSU)
END:VEVENT
BEGIN:VEVENT
DTSTART;TZID=America/New_York:20240919T180000
DTEND;TZID=America/New_York:20240919T200000
DTSTAMP:20260419T080711
CREATED:20240412T135419Z
LAST-MODIFIED:20240412T135752Z
UID:10000665-1726768800-1726776000@maidstone-vt.org
SUMMARY:NEK Choice School District Board Meeting
DESCRIPTION:All meetings of the NEK Choice School District Board are open to the public. Community members are encouraged to attend and participate. Meetings are hybrid\, held both in-person at the Maidstone Town Hall at 508 VT-102 in Maidstone and via Zoom.\nThe Agenda and the Zoom link will be posted as soon as they are available.
URL:https://maidstone-vt.org/event/nek-choice-school-district-board-meeting-3/
LOCATION:Hybrid
CATEGORIES:NEK Choice School District
END:VEVENT
BEGIN:VEVENT
DTSTART;TZID=America/New_York:20240919T180000
DTEND;TZID=America/New_York:20240919T200000
DTSTAMP:20260419T080711
CREATED:20240919T143647Z
LAST-MODIFIED:20240919T143647Z
UID:10000954-1726768800-1726776000@maidstone-vt.org
SUMMARY:NEK Choice School
DESCRIPTION:
URL:https://maidstone-vt.org/event/nek-choice-school/
LOCATION:Hybrid
CATEGORIES:NEK Choice School District
END:VEVENT
END:VCALENDAR