BEGIN:VCALENDAR
VERSION:2.0
PRODID:-//Town of Maidstone Vermont - ECPv6.15.17.1//NONSGML v1.0//EN
CALSCALE:GREGORIAN
METHOD:PUBLISH
X-ORIGINAL-URL:https://maidstone-vt.org
X-WR-CALDESC:Events for Town of Maidstone Vermont
REFRESH-INTERVAL;VALUE=DURATION:PT1H
X-Robots-Tag:noindex
X-PUBLISHED-TTL:PT1H
BEGIN:VTIMEZONE
TZID:America/New_York
BEGIN:DAYLIGHT
TZOFFSETFROM:-0500
TZOFFSETTO:-0400
TZNAME:EDT
DTSTART:20230312T070000
END:DAYLIGHT
BEGIN:STANDARD
TZOFFSETFROM:-0400
TZOFFSETTO:-0500
TZNAME:EST
DTSTART:20231105T060000
END:STANDARD
BEGIN:DAYLIGHT
TZOFFSETFROM:-0500
TZOFFSETTO:-0400
TZNAME:EDT
DTSTART:20240310T070000
END:DAYLIGHT
BEGIN:STANDARD
TZOFFSETFROM:-0400
TZOFFSETTO:-0500
TZNAME:EST
DTSTART:20241103T060000
END:STANDARD
BEGIN:DAYLIGHT
TZOFFSETFROM:-0500
TZOFFSETTO:-0400
TZNAME:EDT
DTSTART:20250309T070000
END:DAYLIGHT
BEGIN:STANDARD
TZOFFSETFROM:-0400
TZOFFSETTO:-0500
TZNAME:EST
DTSTART:20251102T060000
END:STANDARD
END:VTIMEZONE
BEGIN:VEVENT
DTSTART;VALUE=DATE:20240812
DTEND;VALUE=DATE:20240813
DTSTAMP:20260419T090809
CREATED:20230823T161804Z
LAST-MODIFIED:20240504T172727Z
UID:10000350-1723420800-1723507199@maidstone-vt.org
SUMMARY:Trash Pickup
DESCRIPTION:
URL:https://maidstone-vt.org/event/trash-pickup/2024-08-12/
CATEGORIES:Waste & Recycle
END:VEVENT
BEGIN:VEVENT
DTSTART;VALUE=DATE:20240812
DTEND;VALUE=DATE:20240813
DTSTAMP:20260419T090809
CREATED:20240504T145653Z
LAST-MODIFIED:20240528T114615Z
UID:10000901-1723420800-1723507199@maidstone-vt.org
SUMMARY:Recycling
DESCRIPTION:
URL:https://maidstone-vt.org/event/recycling-2/2024-08-12/
LOCATION:Town Hall
CATEGORIES:Waste & Recycle
END:VEVENT
BEGIN:VEVENT
DTSTART;TZID=America/New_York:20240812T180000
DTEND;TZID=America/New_York:20240812T200000
DTSTAMP:20260419T090809
CREATED:20240412T141827Z
LAST-MODIFIED:20240808T145207Z
UID:10000673-1723485600-1723492800@maidstone-vt.org
SUMMARY:ENSU Board Meeting
DESCRIPTION:The Essex North Supervisory Union (ENSU) Board of Directors will hold a hybrid meeting on Monday\, August 12\, 2024 at Canaan Memorial High School Library. The Agenda and the Zoom link will be posted as soon as they are available.\nAll meetings of the ENSU Board of Directors are open to the public. Community members are encouraged to attend and participate. Meetings are hybrid\, held in-person and via Zoom\, either at Maidstone Town Hall or Canaan Memorial High School Library. The location of the meetings for the 2024-2025 School Year is as follows:\n\n\nAugust 12\, 2024: Canaan Memorial HS Library\n\n\nSeptember 19\,\, 2024: Maidstone Town Hall\n\n\nOctober 21\, 2024: Canaan Memorial HS Library\n\n\nNovember 21\, 2024: Maidstone Town Hall\n\n\nDecember 16\, 2024: Canaan Memorial HS Library\n\n\nJanuary 16\, 2025: Maidstone Town Hall\n\n\nFebruary 25\, 2025: Canaan Memorial HS Library\n\n\nMarch 24\, 2025: Canaan Memorial HS Library\n\n\nJune 19\, 2025: Maidstone Town Hall
URL:https://maidstone-vt.org/event/ensu-board-meeting-2-2/
LOCATION:Hybrid
CATEGORIES:Essex North Supervisory Union (ENSU)
END:VEVENT
BEGIN:VEVENT
DTSTART;TZID=America/New_York:20240812T190000
DTEND;TZID=America/New_York:20240812T200000
DTSTAMP:20260419T090809
CREATED:20240808T182331Z
LAST-MODIFIED:20240812T183809Z
UID:10000947-1723489200-1723492800@maidstone-vt.org
SUMMARY:Special Selectboard Meeting - Cancelled
DESCRIPTION:MEETING CANCELLED
URL:https://maidstone-vt.org/event/special-selectboard-meeting-7/
LOCATION:Town Hall
CATEGORIES:Selectboard
END:VEVENT
END:VCALENDAR